Package: minfi Version: 1.53.1 Command: /home/biocbuild/bbs-3.21-bioc/R/bin/R CMD build --keep-empty-dirs --no-resave-data minfi StartedAt: 2025-02-10 18:17:01 -0500 (Mon, 10 Feb 2025) EndedAt: 2025-02-10 18:18:46 -0500 (Mon, 10 Feb 2025) EllapsedTime: 105.1 seconds RetCode: 0 Status: OK PackageFile: minfi_1.53.1.tar.gz PackageFileSize: 505.3 KiB