Package: minfi Version: 1.53.1 Command: /home/biocbuild/bbs-3.21-bioc/R/bin/R CMD check --install=check:minfi.install-out.txt --library=/home/biocbuild/bbs-3.21-bioc/R/site-library --timings minfi_1.53.1.tar.gz StartedAt: 2025-02-11 00:20:23 -0500 (Tue, 11 Feb 2025) EndedAt: 2025-02-11 00:29:41 -0500 (Tue, 11 Feb 2025) EllapsedTime: 557.7 seconds RetCode: 0 Status: OK CheckDir: minfi.Rcheck Warnings: 0