Package: minfi Version: 1.53.1 Command: /home/biocbuild/bbs-3.21-bioc/R/bin/R CMD INSTALL minfi StartedAt: 2025-02-10 15:48:39 -0500 (Mon, 10 Feb 2025) EndedAt: 2025-02-10 15:49:31 -0500 (Mon, 10 Feb 2025) EllapsedTime: 52.0 seconds RetCode: 0 Status: OK