Package: minfi Version: 1.53.1 Command: rm -rf minfi.buildbin-libdir && mkdir minfi.buildbin-libdir && E:\biocbuild\bbs-3.21-bioc\R\bin\R.exe CMD INSTALL --build --library=minfi.buildbin-libdir minfi_1.53.1.tar.gz StartedAt: 2025-02-11 08:22:18 -0500 (Tue, 11 Feb 2025) EndedAt: 2025-02-11 08:23:48 -0500 (Tue, 11 Feb 2025) EllapsedTime: 89.8 seconds RetCode: 0 Status: OK PackageFile: minfi_1.53.1.zip PackageFileSize: 1.558 MiB