Package: minfi Version: 1.53.1 Command: chmod a+r minfi -R && E:\biocbuild\bbs-3.21-bioc\R\bin\R.exe CMD build --keep-empty-dirs --no-resave-data minfi StartedAt: 2025-02-10 20:07:58 -0500 (Mon, 10 Feb 2025) EndedAt: 2025-02-10 20:10:34 -0500 (Mon, 10 Feb 2025) EllapsedTime: 156.4 seconds RetCode: 0 Status: OK PackageFile: minfi_1.53.1.tar.gz PackageFileSize: 505.6 KiB