Package: minfi Version: 1.53.1 Command: E:\biocbuild\bbs-3.21-bioc\R\bin\R.exe CMD check --no-multiarch --install=check:minfi.install-out.txt --library=E:\biocbuild\bbs-3.21-bioc\R\library --no-vignettes --timings minfi_1.53.1.tar.gz StartedAt: 2025-02-11 03:11:46 -0500 (Tue, 11 Feb 2025) EndedAt: 2025-02-11 03:21:53 -0500 (Tue, 11 Feb 2025) EllapsedTime: 606.9 seconds RetCode: 0 Status: OK CheckDir: minfi.Rcheck Warnings: 0