Package: minfi Version: 1.53.1 Command: E:\biocbuild\bbs-3.21-bioc\R\bin\R.exe CMD INSTALL minfi StartedAt: 2025-02-10 16:59:51 -0500 (Mon, 10 Feb 2025) EndedAt: 2025-02-10 17:01:37 -0500 (Mon, 10 Feb 2025) EllapsedTime: 106.2 seconds RetCode: 0 Status: OK