Package: missMethyl Version: 1.41.0 Command: /home/biocbuild/R/R/bin/R CMD build --keep-empty-dirs --no-resave-data missMethyl StartedAt: 2025-01-29 00:23:53 -0000 (Wed, 29 Jan 2025) EndedAt: 2025-01-29 00:46:29 -0000 (Wed, 29 Jan 2025) EllapsedTime: 1355.7 seconds RetCode: 0 Status: OK PackageFile: missMethyl_1.41.0.tar.gz PackageFileSize: 786.8 KiB