Package: missMethyl Version: 1.41.0 Command: /home/biocbuild/R/R/bin/R CMD check --install=check:missMethyl.install-out.txt --library=/home/biocbuild/R/R/site-library --no-vignettes --timings missMethyl_1.41.0.tar.gz StartedAt: 2025-01-28 12:34:49 -0000 (Tue, 28 Jan 2025) EndedAt: 2025-01-28 13:04:59 -0000 (Tue, 28 Jan 2025) EllapsedTime: 1810.4 seconds RetCode: 0 Status: WARNINGS CheckDir: missMethyl.Rcheck Warnings: 6