Package: missMethyl Version: 1.41.0 Command: /home/biocbuild/bbs-3.21-bioc/R/bin/R CMD INSTALL missMethyl StartedAt: 2025-02-09 15:59:04 -0500 (Sun, 09 Feb 2025) EndedAt: 2025-02-09 16:04:02 -0500 (Sun, 09 Feb 2025) EllapsedTime: 298.1 seconds RetCode: 0 Status: OK