Package: missRows Version: 1.27.0 Maintainer: Gonzalez Ignacio MaintainerEmail: ignacio.gonzalez at bbox.fr git_url: https://git.bioconductor.org/packages/missRows git_branch: devel git_last_commit: 560ef6b git_last_commit_date: 2024-10-29 10:27:23 -0500 (Tue, 29 Oct 2024)