Package: missRows Version: 1.27.0 Command: /Library/Frameworks/R.framework/Resources/bin/R CMD INSTALL missRows StartedAt: 2025-02-09 15:06:07 -0500 (Sun, 09 Feb 2025) EndedAt: 2025-02-09 15:06:18 -0500 (Sun, 09 Feb 2025) EllapsedTime: 11.0 seconds RetCode: 0 Status: OK