Package: missRows Version: 1.27.0 Command: /home/biocbuild/R/R/bin/R CMD INSTALL missRows StartedAt: 2025-01-29 19:41:55 -0000 (Wed, 29 Jan 2025) EndedAt: 2025-01-29 19:42:32 -0000 (Wed, 29 Jan 2025) EllapsedTime: 37.7 seconds RetCode: 0 Status: OK