Package: missRows Version: 1.27.0 Command: /Library/Frameworks/R.framework/Resources/bin/R CMD check --install=check:missRows.install-out.txt --library=/Library/Frameworks/R.framework/Resources/library --no-vignettes --timings missRows_1.27.0.tar.gz StartedAt: 2025-02-09 21:59:14 -0500 (Sun, 09 Feb 2025) EndedAt: 2025-02-09 22:02:52 -0500 (Sun, 09 Feb 2025) EllapsedTime: 218.7 seconds RetCode: 0 Status: OK CheckDir: missRows.Rcheck Warnings: 0