Package: missRows Version: 1.27.0 Command: rm -rf missRows.buildbin-libdir && mkdir missRows.buildbin-libdir && E:\biocbuild\bbs-3.21-bioc\R\bin\R.exe CMD INSTALL --build --library=missRows.buildbin-libdir missRows_1.27.0.tar.gz StartedAt: 2025-02-10 08:09:58 -0500 (Mon, 10 Feb 2025) EndedAt: 2025-02-10 08:10:41 -0500 (Mon, 10 Feb 2025) EllapsedTime: 42.9 seconds RetCode: 0 Status: OK PackageFile: missRows_1.27.0.zip PackageFileSize: 843.9 KiB