Package: missRows Version: 1.27.0 Command: chmod a+r missRows -R && E:\biocbuild\bbs-3.21-bioc\R\bin\R.exe CMD build --keep-empty-dirs --no-resave-data missRows StartedAt: 2025-02-09 19:57:44 -0500 (Sun, 09 Feb 2025) EndedAt: 2025-02-09 20:00:09 -0500 (Sun, 09 Feb 2025) EllapsedTime: 144.6 seconds RetCode: 0 Status: OK PackageFile: missRows_1.27.0.tar.gz PackageFileSize: 596.4 KiB