Package: mistyR Version: 1.15.0 Command: rm -rf mistyR.buildbin-libdir && mkdir mistyR.buildbin-libdir && /Users/biocbuild/BBS/utils/build-universal.sh mistyR_1.15.0.tar.gz /Library/Frameworks/R.framework/Resources/bin/R mistyR.buildbin-libdir StartedAt: 2025-02-09 22:21:32 -0500 (Sun, 09 Feb 2025) EndedAt: 2025-02-09 22:21:35 -0500 (Sun, 09 Feb 2025) EllapsedTime: 3.1 seconds RetCode: 0 Status: OK PackageFile: mistyR_1.15.0.tgz PackageFileSize: 3.201 MiB