Package: mistyR Version: 1.15.0 Command: /Library/Frameworks/R.framework/Resources/bin/R CMD build --keep-empty-dirs --no-resave-data mistyR StartedAt: 2025-02-09 16:58:04 -0500 (Sun, 09 Feb 2025) EndedAt: 2025-02-09 16:58:56 -0500 (Sun, 09 Feb 2025) EllapsedTime: 52.5 seconds RetCode: 0 Status: OK PackageFile: mistyR_1.15.0.tar.gz PackageFileSize: 3.094 MiB