Package: mistyR Version: 1.15.0 Command: /Library/Frameworks/R.framework/Resources/bin/R CMD check --install=check:mistyR.install-out.txt --library=/Library/Frameworks/R.framework/Resources/library --no-vignettes --timings mistyR_1.15.0.tar.gz StartedAt: 2025-02-09 20:09:32 -0500 (Sun, 09 Feb 2025) EndedAt: 2025-02-09 20:11:24 -0500 (Sun, 09 Feb 2025) EllapsedTime: 112.2 seconds RetCode: 1 Status: ERROR CheckDir: mistyR.Rcheck Warnings: NA