Package: mistyR Version: 1.15.0 Command: /Library/Frameworks/R.framework/Resources/bin/R CMD INSTALL mistyR StartedAt: 2025-02-09 15:23:46 -0500 (Sun, 09 Feb 2025) EndedAt: 2025-02-09 15:23:48 -0500 (Sun, 09 Feb 2025) EllapsedTime: 2.2 seconds RetCode: 0 Status: OK