Package: mistyR Version: 1.15.0 Command: /Library/Frameworks/R.framework/Resources/bin/R CMD INSTALL mistyR StartedAt: 2025-02-12 15:36:51 -0500 (Wed, 12 Feb 2025) EndedAt: 2025-02-12 15:36:58 -0500 (Wed, 12 Feb 2025) EllapsedTime: 6.8 seconds RetCode: 0 Status: OK