Package: mistyR Version: 1.15.0 Command: /home/biocbuild/bbs-3.21-bioc/R/bin/R CMD build --keep-empty-dirs --no-resave-data mistyR StartedAt: 2025-02-09 18:10:08 -0500 (Sun, 09 Feb 2025) EndedAt: 2025-02-09 18:12:23 -0500 (Sun, 09 Feb 2025) EllapsedTime: 135.1 seconds RetCode: 0 Status: OK PackageFile: mistyR_1.15.0.tar.gz PackageFileSize: 2.978 MiB