Package: mistyR Version: 1.15.0 Command: rm -rf mistyR.buildbin-libdir && mkdir mistyR.buildbin-libdir && E:\biocbuild\bbs-3.21-bioc\R\bin\R.exe CMD INSTALL --build --library=mistyR.buildbin-libdir mistyR_1.15.0.tar.gz StartedAt: 2025-02-13 08:21:12 -0500 (Thu, 13 Feb 2025) EndedAt: 2025-02-13 08:21:27 -0500 (Thu, 13 Feb 2025) EllapsedTime: 15.4 seconds RetCode: 0 Status: OK PackageFile: mistyR_1.15.0.zip PackageFileSize: 2.888 MiB