Package: mistyR Version: 1.15.0 Command: E:\biocbuild\bbs-3.21-bioc\R\bin\R.exe CMD INSTALL mistyR StartedAt: 2025-02-12 16:02:07 -0500 (Wed, 12 Feb 2025) EndedAt: 2025-02-12 16:02:20 -0500 (Wed, 12 Feb 2025) EllapsedTime: 12.7 seconds RetCode: 0 Status: OK