Package: mitch Version: 1.19.3 Command: /Library/Frameworks/R.framework/Resources/bin/R CMD check --install=check:mitch.install-out.txt --library=/Library/Frameworks/R.framework/Resources/library --no-vignettes --timings mitch_1.19.3.tar.gz StartedAt: 2025-02-12 20:14:30 -0500 (Wed, 12 Feb 2025) EndedAt: 2025-02-12 20:15:48 -0500 (Wed, 12 Feb 2025) EllapsedTime: 77.9 seconds RetCode: 0 Status: OK CheckDir: mitch.Rcheck Warnings: 0