Package: mitch Version: 1.19.3 Command: /Library/Frameworks/R.framework/Resources/bin/R CMD INSTALL mitch StartedAt: 2025-02-09 15:15:51 -0500 (Sun, 09 Feb 2025) EndedAt: 2025-02-09 15:15:54 -0500 (Sun, 09 Feb 2025) EllapsedTime: 2.7 seconds RetCode: 0 Status: OK