Package: mitch Version: 1.19.3 Command: /home/biocbuild/R/R/bin/R CMD INSTALL mitch StartedAt: 2025-01-29 20:07:02 -0000 (Wed, 29 Jan 2025) EndedAt: 2025-01-29 20:07:10 -0000 (Wed, 29 Jan 2025) EllapsedTime: 8.0 seconds RetCode: 0 Status: OK