Package: mitch Version: 1.19.3 Command: rm -rf mitch.buildbin-libdir && mkdir mitch.buildbin-libdir && /Users/biocbuild/BBS/utils/build-universal.sh mitch_1.19.3.tar.gz /Library/Frameworks/R.framework/Resources/bin/R mitch.buildbin-libdir StartedAt: 2025-02-10 01:03:17 -0500 (Mon, 10 Feb 2025) EndedAt: 2025-02-10 01:03:28 -0500 (Mon, 10 Feb 2025) EllapsedTime: 11.5 seconds RetCode: 0 Status: OK PackageFile: mitch_1.19.3.tgz PackageFileSize: 1.092 MiB