Package: mitch Version: 1.19.3 Command: rm -rf mitch.buildbin-libdir && mkdir mitch.buildbin-libdir && E:\biocbuild\bbs-3.21-bioc\R\bin\R.exe CMD INSTALL --build --library=mitch.buildbin-libdir mitch_1.19.3.tar.gz StartedAt: 2025-02-10 08:10:06 -0500 (Mon, 10 Feb 2025) EndedAt: 2025-02-10 08:10:23 -0500 (Mon, 10 Feb 2025) EllapsedTime: 16.6 seconds RetCode: 0 Status: OK PackageFile: mitch_1.19.3.zip PackageFileSize: 1.098 MiB