Package: mitoClone2 Version: 1.13.0 Command: rm -rf mitoClone2.buildbin-libdir && mkdir mitoClone2.buildbin-libdir && /Users/biocbuild/BBS/utils/build-universal.sh mitoClone2_1.13.0.tar.gz /Library/Frameworks/R.framework/Resources/bin/R mitoClone2.buildbin-libdir StartedAt: 2025-02-04 22:23:22 -0500 (Tue, 04 Feb 2025) EndedAt: 2025-02-04 22:23:45 -0500 (Tue, 04 Feb 2025) EllapsedTime: 23.5 seconds RetCode: 0 Status: OK PackageFile: mitoClone2_1.13.0.tgz PackageFileSize: 2.051 MiB