Package: mitoClone2 Version: 1.13.0 Command: /Library/Frameworks/R.framework/Resources/bin/R CMD check --install=check:mitoClone2.install-out.txt --library=/Library/Frameworks/R.framework/Resources/library --no-vignettes --timings mitoClone2_1.13.0.tar.gz StartedAt: 2025-02-04 20:11:36 -0500 (Tue, 04 Feb 2025) EndedAt: 2025-02-04 20:14:06 -0500 (Tue, 04 Feb 2025) EllapsedTime: 150.7 seconds RetCode: 0 Status: WARNINGS CheckDir: mitoClone2.Rcheck Warnings: 2