Package: mitoClone2 Version: 1.13.0 Command: /Library/Frameworks/R.framework/Resources/bin/R CMD INSTALL mitoClone2 StartedAt: 2025-02-09 15:11:41 -0500 (Sun, 09 Feb 2025) EndedAt: 2025-02-09 15:12:01 -0500 (Sun, 09 Feb 2025) EllapsedTime: 20.1 seconds RetCode: 0 Status: OK