Package: mitoClone2 Version: 1.13.0 Command: /home/biocbuild/R/R/bin/R CMD INSTALL mitoClone2 StartedAt: 2025-01-29 19:57:46 -0000 (Wed, 29 Jan 2025) EndedAt: 2025-01-29 19:58:54 -0000 (Wed, 29 Jan 2025) EllapsedTime: 68.1 seconds RetCode: 0 Status: OK