Package: mitoClone2 Version: 1.13.0 Command: /home/biocbuild/bbs-3.21-bioc/R/bin/R CMD INSTALL mitoClone2 StartedAt: 2025-02-04 15:53:38 -0500 (Tue, 04 Feb 2025) EndedAt: 2025-02-04 15:54:28 -0500 (Tue, 04 Feb 2025) EllapsedTime: 49.8 seconds RetCode: 0 Status: OK