Package: mitoClone2 Version: 1.13.0 Command: rm -rf mitoClone2.buildbin-libdir && mkdir mitoClone2.buildbin-libdir && E:\biocbuild\bbs-3.21-bioc\R\bin\R.exe CMD INSTALL --build --library=mitoClone2.buildbin-libdir mitoClone2_1.13.0.tar.gz StartedAt: 2025-02-10 08:10:09 -0500 (Mon, 10 Feb 2025) EndedAt: 2025-02-10 08:11:51 -0500 (Mon, 10 Feb 2025) EllapsedTime: 101.4 seconds RetCode: 0 Status: OK PackageFile: mitoClone2_1.13.0.zip PackageFileSize: 6.782 MiB