Package: mixOmics Version: 6.31.4 Command: /Library/Frameworks/R.framework/Resources/bin/R CMD check --install=check:mixOmics.install-out.txt --library=/Library/Frameworks/R.framework/Resources/library --no-vignettes --timings mixOmics_6.31.4.tar.gz StartedAt: 2025-02-09 20:10:10 -0500 (Sun, 09 Feb 2025) EndedAt: 2025-02-09 20:16:40 -0500 (Sun, 09 Feb 2025) EllapsedTime: 390.4 seconds RetCode: 0 Status: OK CheckDir: mixOmics.Rcheck Warnings: 0