Package: mixOmics Version: 6.31.4 Command: /Library/Frameworks/R.framework/Resources/bin/R CMD INSTALL mixOmics StartedAt: 2025-02-09 15:14:52 -0500 (Sun, 09 Feb 2025) EndedAt: 2025-02-09 15:15:03 -0500 (Sun, 09 Feb 2025) EllapsedTime: 11.1 seconds RetCode: 0 Status: OK