Package: mixOmics Version: 6.31.4 Command: /home/biocbuild/R/R/bin/R CMD INSTALL mixOmics StartedAt: 2025-01-29 20:04:54 -0000 (Wed, 29 Jan 2025) EndedAt: 2025-01-29 20:05:41 -0000 (Wed, 29 Jan 2025) EllapsedTime: 46.6 seconds RetCode: 0 Status: OK