Package: mixOmics Version: 6.31.4 Command: rm -rf mixOmics.buildbin-libdir && mkdir mixOmics.buildbin-libdir && /Users/biocbuild/BBS/utils/build-universal.sh mixOmics_6.31.4.tar.gz /Library/Frameworks/R.framework/Resources/bin/R mixOmics.buildbin-libdir StartedAt: 2025-02-10 01:03:21 -0500 (Mon, 10 Feb 2025) EndedAt: 2025-02-10 01:04:13 -0500 (Mon, 10 Feb 2025) EllapsedTime: 51.7 seconds RetCode: 0 Status: OK PackageFile: mixOmics_6.31.4.tgz PackageFileSize: 18.4 MiB