Package: mixOmics Version: 6.31.4 Command: /Library/Frameworks/R.framework/Resources/bin/R CMD build --keep-empty-dirs --no-resave-data mixOmics StartedAt: 2025-02-09 17:29:14 -0500 (Sun, 09 Feb 2025) EndedAt: 2025-02-09 17:41:45 -0500 (Sun, 09 Feb 2025) EllapsedTime: 751.0 seconds RetCode: 0 Status: OK PackageFile: mixOmics_6.31.4.tar.gz PackageFileSize: 18.54 MiB