############################################################################## ############################################################################## ### ### Running command: ### ### /Library/Frameworks/R.framework/Resources/bin/R CMD check --install=check:mixOmics.install-out.txt --library=/Library/Frameworks/R.framework/Resources/library --no-vignettes --timings mixOmics_6.31.4.tar.gz ### ############################################################################## ############################################################################## * using log directory ‘/Users/biocbuild/bbs-3.21-bioc/meat/mixOmics.Rcheck’ * using R Under development (unstable) (2025-01-22 r87618) * using platform: x86_64-apple-darwin20 * R was compiled by Apple clang version 14.0.0 (clang-1400.0.29.202) GNU Fortran (GCC) 14.2.0 * running under: macOS Monterey 12.7.6 * using session charset: UTF-8 * using option ‘--no-vignettes’ * checking for file ‘mixOmics/DESCRIPTION’ ... OK * checking extension type ... Package * this is package ‘mixOmics’ version ‘6.31.4’ * package encoding: UTF-8 * checking package namespace information ... OK * checking package dependencies ... OK * checking if this is a source package ... OK * checking if there is a namespace ... OK * checking for hidden files and directories ... OK * checking for portable file names ... OK * checking for sufficient/correct file permissions ... OK * checking whether package ‘mixOmics’ can be installed ... OK * checking installed package size ... INFO installed size is 6.4Mb sub-directories of 1Mb or more: R 1.5Mb data 3.3Mb * checking package directory ... OK * checking DESCRIPTION meta-information ... OK * checking top-level files ... OK * checking for left-over files ... OK * checking index information ... OK * checking package subdirectories ... OK * checking code files for non-ASCII characters ... OK * checking R files for syntax errors ... OK * checking whether the package can be loaded ... OK * checking whether the package can be loaded with stated dependencies ... OK * checking whether the package can be unloaded cleanly ... OK * checking whether the namespace can be loaded with stated dependencies ... OK * checking whether the namespace can be unloaded cleanly ... OK * checking whether startup messages can be suppressed ... OK * checking dependencies in R code ... NOTE Namespace in Imports field not imported from: ‘gsignal’ All declared Imports should be used. * checking S3 generic/method consistency ... OK * checking replacement functions ... OK * checking foreign function calls ... OK * checking R code for possible problems ... OK * checking Rd files ... OK * checking Rd metadata ... OK * checking Rd cross-references ... NOTE Found the following Rd file(s) with Rd \link{} targets missing package anchors: perf.Rd: BiocParallelParam-class perf.assess.Rd: BiocParallelParam-class rcc.Rd: estimate.lambda tune.Rd: BiocParallelParam-class tune.block.plsda.Rd: BiocParallelParam-class tune.block.splsda.Rd: BiocParallelParam-class tune.pls.Rd: BiocParallelParam-class tune.plsda.Rd: BiocParallelParam-class tune.spca.Rd: BiocParallelParam-class tune.spls.Rd: BiocParallelParam-class tune.splsda.Rd: BiocParallelParam-class Please provide package anchors for all Rd \link{} targets not in the package itself and the base packages. * checking for missing documentation entries ... OK * checking for code/documentation mismatches ... OK * checking Rd \usage sections ... NOTE S3 methods shown with full name in Rd file 'perf.assess.Rd': ‘perf.assess’ The \usage entries for S3 methods should use the \method markup and not their full name. See chapter ‘Writing R documentation files’ in the ‘Writing R Extensions’ manual. * checking Rd contents ... OK * checking for unstated dependencies in examples ... OK * checking contents of ‘data’ directory ... OK * checking data for non-ASCII characters ... OK * checking data for ASCII and uncompressed saves ... OK * checking files in ‘vignettes’ ... OK * checking examples ... OK Examples with CPU (user + system) or elapsed time > 5s user system elapsed tune.spls 221.611 10.199 233.045 tune.splsda 105.069 5.517 111.306 tune.plsda 49.059 2.486 51.822 tune.block.plsda 36.699 0.332 37.217 tune.pls 34.348 1.984 36.524 perf.assess 27.444 0.946 28.623 tune.block.splsda 14.209 0.170 50.912 biplot 14.146 0.104 14.345 background.predict 8.777 1.367 10.227 block.splsda 7.410 0.097 7.556 circosPlot 7.408 0.085 7.531 tune 5.993 0.386 6.408 block.spls 6.033 0.076 6.155 * checking for unstated dependencies in ‘tests’ ... OK * checking tests ... Running ‘testthat.R’ OK * checking for unstated dependencies in vignettes ... OK * checking package vignettes ... OK * checking running R code from vignettes ... SKIPPED * checking re-building of vignette outputs ... SKIPPED * checking PDF version of manual ... OK * DONE Status: 3 NOTEs See ‘/Users/biocbuild/bbs-3.21-bioc/meat/mixOmics.Rcheck/00check.log’ for details.