Package: mixOmics Version: 6.31.4 Command: /home/biocbuild/bbs-3.21-bioc/R/bin/R CMD build --keep-empty-dirs --no-resave-data mixOmics StartedAt: 2025-02-09 18:10:29 -0500 (Sun, 09 Feb 2025) EndedAt: 2025-02-09 18:20:01 -0500 (Sun, 09 Feb 2025) EllapsedTime: 572.5 seconds RetCode: 0 Status: OK PackageFile: mixOmics_6.31.4.tar.gz PackageFileSize: 17.77 MiB