Package: mixOmics Version: 6.31.4 Command: /home/biocbuild/bbs-3.21-bioc/R/bin/R CMD check --install=check:mixOmics.install-out.txt --library=/home/biocbuild/bbs-3.21-bioc/R/site-library --timings mixOmics_6.31.4.tar.gz StartedAt: 2025-02-13 00:17:10 -0500 (Thu, 13 Feb 2025) EndedAt: 2025-02-13 00:44:05 -0500 (Thu, 13 Feb 2025) EllapsedTime: 1614.3 seconds RetCode: 0 Status: OK CheckDir: mixOmics.Rcheck Warnings: 0