Package: mixOmics Version: 6.31.4 Command: /home/biocbuild/bbs-3.21-bioc/R/bin/R CMD INSTALL mixOmics StartedAt: 2025-02-09 15:09:18 -0500 (Sun, 09 Feb 2025) EndedAt: 2025-02-09 15:09:50 -0500 (Sun, 09 Feb 2025) EllapsedTime: 32.4 seconds RetCode: 0 Status: OK