############################################################################## ############################################################################## ### ### Running command: ### ### rm -rf mixOmics.buildbin-libdir && mkdir mixOmics.buildbin-libdir && E:\biocbuild\bbs-3.21-bioc\R\bin\R.exe CMD INSTALL --build --library=mixOmics.buildbin-libdir mixOmics_6.31.4.tar.gz ### ############################################################################## ############################################################################## * installing *source* package 'mixOmics' ... ** this is package 'mixOmics' version '6.31.4' ** using staged installation ** R ** data ** inst ** byte-compile and prepare package for lazy loading ** help *** installing help indices ** building package indices ** installing vignettes ** testing if installed package can be loaded from temporary location ** testing if installed package can be loaded from final location ** testing if installed package keeps a record of temporary installation path * MD5 sums packaged installation of 'mixOmics' as mixOmics_6.31.4.zip * DONE (mixOmics)