Package: mixOmics Version: 6.31.4 Command: rm -rf mixOmics.buildbin-libdir && mkdir mixOmics.buildbin-libdir && E:\biocbuild\bbs-3.21-bioc\R\bin\R.exe CMD INSTALL --build --library=mixOmics.buildbin-libdir mixOmics_6.31.4.tar.gz StartedAt: 2025-02-10 08:10:23 -0500 (Mon, 10 Feb 2025) EndedAt: 2025-02-10 08:12:30 -0500 (Mon, 10 Feb 2025) EllapsedTime: 126.5 seconds RetCode: 0 Status: OK PackageFile: mixOmics_6.31.4.zip PackageFileSize: 10.42 MiB