Package: mixOmics Version: 6.31.4 Command: E:\biocbuild\bbs-3.21-bioc\R\bin\R.exe CMD check --no-multiarch --install=check:mixOmics.install-out.txt --library=E:\biocbuild\bbs-3.21-bioc\R\library --no-vignettes --timings mixOmics_6.31.4.tar.gz StartedAt: 2025-02-10 03:02:30 -0500 (Mon, 10 Feb 2025) EndedAt: 2025-02-10 03:24:43 -0500 (Mon, 10 Feb 2025) EllapsedTime: 1333.4 seconds RetCode: 0 Status: OK CheckDir: mixOmics.Rcheck Warnings: 0