Package: moanin Version: 1.15.0 Command: rm -rf moanin.buildbin-libdir && mkdir moanin.buildbin-libdir && /Users/biocbuild/BBS/utils/build-universal.sh moanin_1.15.0.tar.gz /Library/Frameworks/R.framework/Resources/bin/R moanin.buildbin-libdir StartedAt: 2025-02-10 01:03:28 -0500 (Mon, 10 Feb 2025) EndedAt: 2025-02-10 01:04:19 -0500 (Mon, 10 Feb 2025) EllapsedTime: 50.5 seconds RetCode: 0 Status: OK PackageFile: moanin_1.15.0.tgz PackageFileSize: 1004 KiB