Package: monocle Version: 2.35.0 Command: rm -rf monocle.buildbin-libdir && mkdir monocle.buildbin-libdir && /Users/biocbuild/BBS/utils/build-universal.sh monocle_2.35.0.tar.gz /Library/Frameworks/R.framework/Resources/bin/R monocle.buildbin-libdir StartedAt: 2025-02-10 01:03:41 -0500 (Mon, 10 Feb 2025) EndedAt: 2025-02-10 01:04:14 -0500 (Mon, 10 Feb 2025) EllapsedTime: 33.2 seconds RetCode: 0 Status: OK PackageFile: monocle_2.35.0.tgz PackageFileSize: 1.444 MiB