Package: monocle Version: 2.35.0 Command: /Library/Frameworks/R.framework/Resources/bin/R CMD build --keep-empty-dirs --no-resave-data monocle StartedAt: 2025-02-09 17:31:30 -0500 (Sun, 09 Feb 2025) EndedAt: 2025-02-09 17:32:09 -0500 (Sun, 09 Feb 2025) EllapsedTime: 38.8 seconds RetCode: 0 Status: OK PackageFile: monocle_2.35.0.tar.gz PackageFileSize: 9.006 MiB